BEGIN:VCALENDAR
VERSION:2.0
PRODID:-//Word of Faith International Christian Center St Thomas - ECPv6.15.18//NONSGML v1.0//EN
CALSCALE:GREGORIAN
METHOD:PUBLISH
X-WR-CALNAME:Word of Faith International Christian Center St Thomas
X-ORIGINAL-URL:https://wordoffaithstthomas.com
X-WR-CALDESC:Events for Word of Faith International Christian Center St Thomas
REFRESH-INTERVAL;VALUE=DURATION:PT1H
X-Robots-Tag:noindex
X-PUBLISHED-TTL:PT1H
BEGIN:VTIMEZONE
TZID:America/St_Thomas
BEGIN:STANDARD
TZOFFSETFROM:-0400
TZOFFSETTO:-0400
TZNAME:AST
DTSTART:20280101T000000
END:STANDARD
END:VTIMEZONE
BEGIN:VEVENT
DTSTART;TZID=America/St_Thomas:20290215T190000
DTEND;TZID=America/St_Thomas:20290308T203000
DTSTAMP:20260419T184406
CREATED:20240407T005231Z
LAST-MODIFIED:20241031T203915Z
UID:990002533-1865876400-1867696200@wordoffaithstthomas.com
SUMMARY:Touch Group Meetings - We are Better Together! Stay Connected!
DESCRIPTION:Call the Church Office at (340) 774-8617 to register for a Touch Group. \nWe are Better Together!! Stay Connected!
URL:https://wordoffaithstthomas.com/event/life-group-meetings-we-are-better-together-2/2029-02-15
ATTACH;FMTTYPE=image/png:https://wordoffaithstthomas.com/wp-content/uploads/2023/10/Touch-Group-Slide-2.png
END:VEVENT
BEGIN:VEVENT
DTSTART;TZID=America/St_Thomas:20290222T190000
DTEND;TZID=America/St_Thomas:20290315T203000
DTSTAMP:20260419T184406
CREATED:20240407T005231Z
LAST-MODIFIED:20241031T203915Z
UID:990004589-1866481200-1868301000@wordoffaithstthomas.com
SUMMARY:Touch Group Meetings - We are Better Together! Stay Connected!
DESCRIPTION:Call the Church Office at (340) 774-8617 to register for a Touch Group. \nWe are Better Together!! Stay Connected!
URL:https://wordoffaithstthomas.com/event/life-group-meetings-we-are-better-together-2/2029-02-22
ATTACH;FMTTYPE=image/png:https://wordoffaithstthomas.com/wp-content/uploads/2023/10/Touch-Group-Slide-2.png
END:VEVENT
BEGIN:VEVENT
DTSTART;TZID=America/St_Thomas:20290301T190000
DTEND;TZID=America/St_Thomas:20290322T203000
DTSTAMP:20260419T184406
CREATED:20240407T005231Z
LAST-MODIFIED:20241031T203915Z
UID:990004590-1867086000-1868905800@wordoffaithstthomas.com
SUMMARY:Touch Group Meetings - We are Better Together! Stay Connected!
DESCRIPTION:Call the Church Office at (340) 774-8617 to register for a Touch Group. \nWe are Better Together!! Stay Connected!
URL:https://wordoffaithstthomas.com/event/life-group-meetings-we-are-better-together-2/2029-03-01
ATTACH;FMTTYPE=image/png:https://wordoffaithstthomas.com/wp-content/uploads/2023/10/Touch-Group-Slide-2.png
END:VEVENT
BEGIN:VEVENT
DTSTART;TZID=America/St_Thomas:20290308T190000
DTEND;TZID=America/St_Thomas:20290329T203000
DTSTAMP:20260419T184406
CREATED:20240407T005231Z
LAST-MODIFIED:20241031T203915Z
UID:990004591-1867690800-1869510600@wordoffaithstthomas.com
SUMMARY:Touch Group Meetings - We are Better Together! Stay Connected!
DESCRIPTION:Call the Church Office at (340) 774-8617 to register for a Touch Group. \nWe are Better Together!! Stay Connected!
URL:https://wordoffaithstthomas.com/event/life-group-meetings-we-are-better-together-2/2029-03-08
ATTACH;FMTTYPE=image/png:https://wordoffaithstthomas.com/wp-content/uploads/2023/10/Touch-Group-Slide-2.png
END:VEVENT
BEGIN:VEVENT
DTSTART;TZID=America/St_Thomas:20290315T190000
DTEND;TZID=America/St_Thomas:20290405T203000
DTSTAMP:20260419T184406
CREATED:20240407T005231Z
LAST-MODIFIED:20241031T203915Z
UID:990004592-1868295600-1870115400@wordoffaithstthomas.com
SUMMARY:Touch Group Meetings - We are Better Together! Stay Connected!
DESCRIPTION:Call the Church Office at (340) 774-8617 to register for a Touch Group. \nWe are Better Together!! Stay Connected!
URL:https://wordoffaithstthomas.com/event/life-group-meetings-we-are-better-together-2/2029-03-15
ATTACH;FMTTYPE=image/png:https://wordoffaithstthomas.com/wp-content/uploads/2023/10/Touch-Group-Slide-2.png
END:VEVENT
BEGIN:VEVENT
DTSTART;TZID=America/St_Thomas:20290322T190000
DTEND;TZID=America/St_Thomas:20290412T203000
DTSTAMP:20260419T184406
CREATED:20240407T005231Z
LAST-MODIFIED:20241031T203915Z
UID:990004593-1868900400-1870720200@wordoffaithstthomas.com
SUMMARY:Touch Group Meetings - We are Better Together! Stay Connected!
DESCRIPTION:Call the Church Office at (340) 774-8617 to register for a Touch Group. \nWe are Better Together!! Stay Connected!
URL:https://wordoffaithstthomas.com/event/life-group-meetings-we-are-better-together-2/2029-03-22
ATTACH;FMTTYPE=image/png:https://wordoffaithstthomas.com/wp-content/uploads/2023/10/Touch-Group-Slide-2.png
END:VEVENT
BEGIN:VEVENT
DTSTART;TZID=America/St_Thomas:20290329T190000
DTEND;TZID=America/St_Thomas:20290419T203000
DTSTAMP:20260419T184406
CREATED:20240407T005231Z
LAST-MODIFIED:20241031T203915Z
UID:990004594-1869505200-1871325000@wordoffaithstthomas.com
SUMMARY:Touch Group Meetings - We are Better Together! Stay Connected!
DESCRIPTION:Call the Church Office at (340) 774-8617 to register for a Touch Group. \nWe are Better Together!! Stay Connected!
URL:https://wordoffaithstthomas.com/event/life-group-meetings-we-are-better-together-2/2029-03-29
ATTACH;FMTTYPE=image/png:https://wordoffaithstthomas.com/wp-content/uploads/2023/10/Touch-Group-Slide-2.png
END:VEVENT
BEGIN:VEVENT
DTSTART;TZID=America/St_Thomas:20290405T190000
DTEND;TZID=America/St_Thomas:20290426T203000
DTSTAMP:20260419T184406
CREATED:20240407T005231Z
LAST-MODIFIED:20241031T203915Z
UID:990004595-1870110000-1871929800@wordoffaithstthomas.com
SUMMARY:Touch Group Meetings - We are Better Together! Stay Connected!
DESCRIPTION:Call the Church Office at (340) 774-8617 to register for a Touch Group. \nWe are Better Together!! Stay Connected!
URL:https://wordoffaithstthomas.com/event/life-group-meetings-we-are-better-together-2/2029-04-05
ATTACH;FMTTYPE=image/png:https://wordoffaithstthomas.com/wp-content/uploads/2023/10/Touch-Group-Slide-2.png
END:VEVENT
BEGIN:VEVENT
DTSTART;TZID=America/St_Thomas:20290412T190000
DTEND;TZID=America/St_Thomas:20290503T203000
DTSTAMP:20260419T184406
CREATED:20240407T005231Z
LAST-MODIFIED:20241031T203915Z
UID:990004596-1870714800-1872534600@wordoffaithstthomas.com
SUMMARY:Touch Group Meetings - We are Better Together! Stay Connected!
DESCRIPTION:Call the Church Office at (340) 774-8617 to register for a Touch Group. \nWe are Better Together!! Stay Connected!
URL:https://wordoffaithstthomas.com/event/life-group-meetings-we-are-better-together-2/2029-04-12
ATTACH;FMTTYPE=image/png:https://wordoffaithstthomas.com/wp-content/uploads/2023/10/Touch-Group-Slide-2.png
END:VEVENT
BEGIN:VEVENT
DTSTART;TZID=America/St_Thomas:20290419T190000
DTEND;TZID=America/St_Thomas:20290510T203000
DTSTAMP:20260419T184406
CREATED:20240407T005231Z
LAST-MODIFIED:20241031T203915Z
UID:990004597-1871319600-1873139400@wordoffaithstthomas.com
SUMMARY:Touch Group Meetings - We are Better Together! Stay Connected!
DESCRIPTION:Call the Church Office at (340) 774-8617 to register for a Touch Group. \nWe are Better Together!! Stay Connected!
URL:https://wordoffaithstthomas.com/event/life-group-meetings-we-are-better-together-2/2029-04-19
ATTACH;FMTTYPE=image/png:https://wordoffaithstthomas.com/wp-content/uploads/2023/10/Touch-Group-Slide-2.png
END:VEVENT
BEGIN:VEVENT
DTSTART;TZID=America/St_Thomas:20290426T190000
DTEND;TZID=America/St_Thomas:20290517T203000
DTSTAMP:20260419T184406
CREATED:20240407T005231Z
LAST-MODIFIED:20241031T203915Z
UID:990004598-1871924400-1873744200@wordoffaithstthomas.com
SUMMARY:Touch Group Meetings - We are Better Together! Stay Connected!
DESCRIPTION:Call the Church Office at (340) 774-8617 to register for a Touch Group. \nWe are Better Together!! Stay Connected!
URL:https://wordoffaithstthomas.com/event/life-group-meetings-we-are-better-together-2/2029-04-26
ATTACH;FMTTYPE=image/png:https://wordoffaithstthomas.com/wp-content/uploads/2023/10/Touch-Group-Slide-2.png
END:VEVENT
END:VCALENDAR